BEGIN:VCALENDAR
VERSION:2.0
PRODID:-//R25 Art Complex - ECPv6.15.20//NONSGML v1.0//EN
CALSCALE:GREGORIAN
METHOD:PUBLISH
X-ORIGINAL-URL:https://r25artcomplex.com
X-WR-CALDESC:Events for R25 Art Complex
REFRESH-INTERVAL;VALUE=DURATION:PT1H
X-Robots-Tag:noindex
X-PUBLISHED-TTL:PT1H
BEGIN:VTIMEZONE
TZID:America/Los_Angeles
BEGIN:DAYLIGHT
TZOFFSETFROM:-0800
TZOFFSETTO:-0700
TZNAME:PDT
DTSTART:20230312T100000
END:DAYLIGHT
BEGIN:STANDARD
TZOFFSETFROM:-0700
TZOFFSETTO:-0800
TZNAME:PST
DTSTART:20231105T090000
END:STANDARD
BEGIN:DAYLIGHT
TZOFFSETFROM:-0800
TZOFFSETTO:-0700
TZNAME:PDT
DTSTART:20240310T100000
END:DAYLIGHT
BEGIN:STANDARD
TZOFFSETFROM:-0700
TZOFFSETTO:-0800
TZNAME:PST
DTSTART:20241103T090000
END:STANDARD
BEGIN:DAYLIGHT
TZOFFSETFROM:-0800
TZOFFSETTO:-0700
TZNAME:PDT
DTSTART:20250309T100000
END:DAYLIGHT
BEGIN:STANDARD
TZOFFSETFROM:-0700
TZOFFSETTO:-0800
TZNAME:PST
DTSTART:20251102T090000
END:STANDARD
END:VTIMEZONE
BEGIN:VEVENT
DTSTART;TZID=America/Los_Angeles:20241116T180000
DTEND;TZID=America/Los_Angeles:20241116T220000
DTSTAMP:20260425T041430
CREATED:20241012T042533Z
LAST-MODIFIED:20241012T042533Z
UID:1367-1731780000-1731794400@r25artcomplex.com
SUMMARY:Ray Tatar LiveWire Retirement Party and Access Sacramento Fundraiser
DESCRIPTION:Hooray Soiree \nExperience Vaudeville FUN! \nGet submerged in interactive entertainment by participating in creating a radio drama\, costumed photo booth\, raffle\, and more. \nLive entertainment performances including Cirque-style flow\, a mermaid\, musicians\, and actors. \nThis event is 21 and up. \nCelebrating 32 years of “LiveWire!”\nAfter 32 years of producing “LiveWire!”\, we are retiring the show. We are honoring Ray Tatar with “The Power Of Voice” Award for his hosting of the show and his commitment to volunteerism with Access Sacramento. \nRay Tatar\, friend of Access Sacramento and leader in the local and State-wide arts scene\, stepped in to volunteer weekly as host. At the time\, Ray was the statewide Grants Director for the California Arts Council and utilized his many connections to showcase NPO’s and gifted artists in our community. \nFor almost 20 years\, Ray has volunteered as Livewire host\, utilizing his knowledge\, wit\, charm and connections to help Access Sacramento fulfill our mission in the community. \nTo allow for a proper experience\, tickets are limited. More information below. \nEnjoy a festive evening of interactive fun and offbeat entertainment as we celebrate the cast and crew of LiveWire. Our local weekly TV show that has aired 30 years on Access Sacramento! \nThis festive evening benefits Access Sacramento your 501c3 Community Media Center. \n$40 per person. Ticket sales start in October Soiree Location: Futures Explored Studios 2533 R Street\, Sacramento\, 95816 \nSave The Date! November 16th 6:00 PM.
URL:https://r25artcomplex.com/event/ray-tatar-livewire-retirement-party-and-access-sacramento-fundraiser/
CATEGORIES:One Day Show
ATTACH;FMTTYPE=image/png:https://r25artcomplex.com/wp-content/uploads/2024/10/HooraySoireeSTD-uai-1032x1032-1.png
END:VEVENT
END:VCALENDAR