BEGIN:VCALENDAR
VERSION:2.0
PRODID:-//R25 Art Complex - ECPv6.15.20//NONSGML v1.0//EN
CALSCALE:GREGORIAN
METHOD:PUBLISH
X-ORIGINAL-URL:https://r25artcomplex.com
X-WR-CALDESC:Events for R25 Art Complex
REFRESH-INTERVAL;VALUE=DURATION:PT1H
X-Robots-Tag:noindex
X-PUBLISHED-TTL:PT1H
BEGIN:VTIMEZONE
TZID:UTC
BEGIN:STANDARD
TZOFFSETFROM:+0000
TZOFFSETTO:+0000
TZNAME:UTC
DTSTART:20240101T000000
END:STANDARD
END:VTIMEZONE
BEGIN:VTIMEZONE
TZID:America/Los_Angeles
BEGIN:DAYLIGHT
TZOFFSETFROM:-0800
TZOFFSETTO:-0700
TZNAME:PDT
DTSTART:20240310T100000
END:DAYLIGHT
BEGIN:STANDARD
TZOFFSETFROM:-0700
TZOFFSETTO:-0800
TZNAME:PST
DTSTART:20241103T090000
END:STANDARD
BEGIN:DAYLIGHT
TZOFFSETFROM:-0800
TZOFFSETTO:-0700
TZNAME:PDT
DTSTART:20250309T100000
END:DAYLIGHT
BEGIN:STANDARD
TZOFFSETFROM:-0700
TZOFFSETTO:-0800
TZNAME:PST
DTSTART:20251102T090000
END:STANDARD
BEGIN:DAYLIGHT
TZOFFSETFROM:-0800
TZOFFSETTO:-0700
TZNAME:PDT
DTSTART:20260308T100000
END:DAYLIGHT
BEGIN:STANDARD
TZOFFSETFROM:-0700
TZOFFSETTO:-0800
TZNAME:PST
DTSTART:20261101T090000
END:STANDARD
END:VTIMEZONE
BEGIN:VEVENT
DTSTART;TZID=UTC:20250203T180000
DTEND;TZID=UTC:20250203T220000
DTSTAMP:20260425T044810
CREATED:20240605T103309Z
LAST-MODIFIED:20240619T111043Z
UID:242-1738605600-1738620000@r25artcomplex.com
SUMMARY:DWT - Resurrection\, God of Hell (Rehearsal)
DESCRIPTION:
URL:https://r25artcomplex.com/event/dwt-resurrection-god-of-hell-rehearsal/
LOCATION:Wilkerson (DWT)\, 2509 R St\, Sacramento\, 95816\, United States
CATEGORIES:DWT,Rehearsal
END:VEVENT
BEGIN:VEVENT
DTSTART;TZID=UTC:20250211T180000
DTEND;TZID=UTC:20250211T220000
DTSTAMP:20260425T044810
CREATED:20240605T104955Z
LAST-MODIFIED:20240619T111036Z
UID:254-1739296800-1739311200@r25artcomplex.com
SUMMARY:DWT - Resurrection\, God of Hell (Rehearsal)
DESCRIPTION:
URL:https://r25artcomplex.com/event/dwt-resurrection-god-of-hell-rehearsal-7/
LOCATION:Wilkerson (DWT)\, 2509 R St\, Sacramento\, 95816\, United States
CATEGORIES:DWT,Rehearsal
END:VEVENT
BEGIN:VEVENT
DTSTART;TZID=UTC:20250212T180000
DTEND;TZID=UTC:20250212T220000
DTSTAMP:20260425T044810
CREATED:20240605T105354Z
LAST-MODIFIED:20240619T111029Z
UID:256-1739383200-1739397600@r25artcomplex.com
SUMMARY:DWT - Resurrection\, God of Hell (Rehearsal)
DESCRIPTION:
URL:https://r25artcomplex.com/event/dwt-resurrection-god-of-hell-rehearsal-8/
LOCATION:Wilkerson (DWT)\, 2509 R St\, Sacramento\, 95816\, United States
CATEGORIES:DWT,Rehearsal
END:VEVENT
BEGIN:VEVENT
DTSTART;TZID=UTC:20250213T180000
DTEND;TZID=UTC:20250213T220000
DTSTAMP:20260425T044810
CREATED:20240605T105554Z
LAST-MODIFIED:20240619T110944Z
UID:260-1739469600-1739484000@r25artcomplex.com
SUMMARY:DWT - Resurrection\, God of Hell (Rehearsal)
DESCRIPTION:
URL:https://r25artcomplex.com/event/dwt-resurrection-god-of-hell-rehearsal-10/
LOCATION:Wilkerson (DWT)\, 2509 R St\, Sacramento\, 95816\, United States
CATEGORIES:DWT,Rehearsal
END:VEVENT
BEGIN:VEVENT
DTSTART;TZID=UTC:20250214T180000
DTEND;TZID=UTC:20250214T220000
DTSTAMP:20260425T044810
CREATED:20240605T105728Z
LAST-MODIFIED:20240619T110935Z
UID:262-1739556000-1739570400@r25artcomplex.com
SUMMARY:DWT - Resurrection\, God of Hell (Rehearsal)
DESCRIPTION:
URL:https://r25artcomplex.com/event/dwt-resurrection-god-of-hell-rehearsal-11/
LOCATION:Wilkerson (DWT)\, 2509 R St\, Sacramento\, 95816\, United States
CATEGORIES:DWT,Rehearsal
END:VEVENT
BEGIN:VEVENT
DTSTART;TZID=UTC:20250217T180000
DTEND;TZID=UTC:20250217T220000
DTSTAMP:20260425T044810
CREATED:20240605T110036Z
LAST-MODIFIED:20240619T110918Z
UID:264-1739815200-1739829600@r25artcomplex.com
SUMMARY:DWT - Resurrection\, God of Hell (Rehearsal)
DESCRIPTION:
URL:https://r25artcomplex.com/event/dwt-resurrection-god-of-hell-rehearsal-12/
LOCATION:Wilkerson (DWT)\, 2509 R St\, Sacramento\, 95816\, United States
CATEGORIES:DWT,Rehearsal
END:VEVENT
BEGIN:VEVENT
DTSTART;TZID=UTC:20250218T180000
DTEND;TZID=UTC:20250218T220000
DTSTAMP:20260425T044810
CREATED:20240605T110133Z
LAST-MODIFIED:20240619T110852Z
UID:266-1739901600-1739916000@r25artcomplex.com
SUMMARY:DWT - Resurrection\, God of Hell (Rehearsal)
DESCRIPTION:
URL:https://r25artcomplex.com/event/dwt-resurrection-god-of-hell-rehearsal-13/
LOCATION:Wilkerson (DWT)\, 2509 R St\, Sacramento\, 95816\, United States
CATEGORIES:DWT,Rehearsal
END:VEVENT
BEGIN:VEVENT
DTSTART;TZID=UTC:20250219T180000
DTEND;TZID=UTC:20250219T220000
DTSTAMP:20260425T044810
CREATED:20240605T110240Z
LAST-MODIFIED:20240619T110840Z
UID:268-1739988000-1740002400@r25artcomplex.com
SUMMARY:DWT - Resurrection\, God of Hell (Rehearsal)
DESCRIPTION:
URL:https://r25artcomplex.com/event/dwt-resurrection-god-of-hell-rehearsal-14/
LOCATION:Wilkerson (DWT)\, 2509 R St\, Sacramento\, 95816\, United States
CATEGORIES:DWT,Rehearsal
END:VEVENT
BEGIN:VEVENT
DTSTART;TZID=UTC:20250221T180000
DTEND;TZID=UTC:20250221T220000
DTSTAMP:20260425T044810
CREATED:20240605T110522Z
LAST-MODIFIED:20240619T110821Z
UID:270-1740160800-1740175200@r25artcomplex.com
SUMMARY:DWT - Resurrection\, God of Hell (Rehearsal)
DESCRIPTION:
URL:https://r25artcomplex.com/event/dwt-resurrection-god-of-hell-rehearsal-15/
LOCATION:Wilkerson (DWT)\, 2509 R St\, Sacramento\, 95816\, United States
CATEGORIES:DWT,Rehearsal
END:VEVENT
BEGIN:VEVENT
DTSTART;TZID=UTC:20250224T180000
DTEND;TZID=UTC:20250224T220000
DTSTAMP:20260425T044810
CREATED:20240605T110640Z
LAST-MODIFIED:20240619T112328Z
UID:272-1740420000-1740434400@r25artcomplex.com
SUMMARY:DWT - Resurrection\, God of Hell (Rehearsal)
DESCRIPTION:
URL:https://r25artcomplex.com/event/dwt-resurrection-god-of-hell-rehearsal-16/
CATEGORIES:DWT,Rehearsal
END:VEVENT
BEGIN:VEVENT
DTSTART;TZID=UTC:20250225T180000
DTEND;TZID=UTC:20250225T220000
DTSTAMP:20260425T044810
CREATED:20240605T110759Z
LAST-MODIFIED:20240619T112323Z
UID:274-1740506400-1740520800@r25artcomplex.com
SUMMARY:DWT - Resurrection\, God of Hell (Rehearsal)
DESCRIPTION:
URL:https://r25artcomplex.com/event/dwt-resurrection-god-of-hell-rehearsal-17/
LOCATION:Wilkerson (DWT)\, 2509 R St\, Sacramento\, 95816\, United States
CATEGORIES:DWT,Rehearsal
END:VEVENT
BEGIN:VEVENT
DTSTART;TZID=UTC:20250226T180000
DTEND;TZID=UTC:20250226T220000
DTSTAMP:20260425T044810
CREATED:20240605T110905Z
LAST-MODIFIED:20240619T112316Z
UID:276-1740592800-1740607200@r25artcomplex.com
SUMMARY:DWT - Resurrection\, God of Hell (Rehearsal)
DESCRIPTION:
URL:https://r25artcomplex.com/event/dwt-resurrection-god-of-hell-rehearsal-18/
LOCATION:Wilkerson (DWT)\, 2509 R St\, Sacramento\, 95816\, United States
CATEGORIES:DWT,Rehearsal
END:VEVENT
BEGIN:VEVENT
DTSTART;TZID=UTC:20250227T180000
DTEND;TZID=UTC:20250227T220000
DTSTAMP:20260425T044810
CREATED:20240605T111022Z
LAST-MODIFIED:20240619T112310Z
UID:278-1740679200-1740693600@r25artcomplex.com
SUMMARY:DWT - Resurrection\, God of Hell (Rehearsal)
DESCRIPTION:
URL:https://r25artcomplex.com/event/dwt-resurrection-god-of-hell-rehearsal-19/
LOCATION:Wilkerson (DWT)\, 2509 R St\, Sacramento\, 95816\, United States
CATEGORIES:DWT,Rehearsal
END:VEVENT
BEGIN:VEVENT
DTSTART;TZID=UTC:20250228T190000
DTEND;TZID=UTC:20250228T210000
DTSTAMP:20260425T044810
CREATED:20240605T111148Z
LAST-MODIFIED:20240619T110750Z
UID:280-1740769200-1740776400@r25artcomplex.com
SUMMARY:DWT - Resurrection\, God of Hell (Performance)
DESCRIPTION:
URL:https://r25artcomplex.com/event/dwt-resurrection-god-of-hell-proformance/
LOCATION:Wilkerson (DWT)\, 2509 R St\, Sacramento\, 95816\, United States
CATEGORIES:DWT,Performance
END:VEVENT
BEGIN:VEVENT
DTSTART;TZID=UTC:20250301T190000
DTEND;TZID=UTC:20250301T210000
DTSTAMP:20260425T044810
CREATED:20240605T111329Z
LAST-MODIFIED:20250228T043458Z
UID:282-1740855600-1740862800@r25artcomplex.com
SUMMARY:DWT - Resurrection\, God of Hell (Performance)
DESCRIPTION:
URL:https://r25artcomplex.com/event/dwt-resurrection-god-of-hell-proformance-2/
LOCATION:Wilkerson (DWT)\, 2509 R St\, Sacramento\, 95816\, United States
CATEGORIES:DWT,Performance
END:VEVENT
BEGIN:VEVENT
DTSTART;TZID=UTC:20250302T140000
DTEND;TZID=UTC:20250302T160000
DTSTAMP:20260425T044810
CREATED:20240605T111611Z
LAST-MODIFIED:20240619T110739Z
UID:284-1740924000-1740931200@r25artcomplex.com
SUMMARY:DWT - Resurrection\, God of Hell (Performance)
DESCRIPTION:
URL:https://r25artcomplex.com/event/dwt-resurrection-god-of-hell-proformance-3/
LOCATION:Wilkerson (DWT)\, 2509 R St\, Sacramento\, 95816\, United States
CATEGORIES:DWT,Performance
END:VEVENT
BEGIN:VEVENT
DTSTART;TZID=UTC:20250307T190000
DTEND;TZID=UTC:20250307T210000
DTSTAMP:20260425T044810
CREATED:20240605T111741Z
LAST-MODIFIED:20240619T110718Z
UID:286-1741374000-1741381200@r25artcomplex.com
SUMMARY:DWT - Resurrection\, God of Hell (Performance)
DESCRIPTION:
URL:https://r25artcomplex.com/event/dwt-resurrection-god-of-hell-proformance-4/
LOCATION:Wilkerson (DWT)\, 2509 R St\, Sacramento\, 95816\, United States
CATEGORIES:DWT,Performance
END:VEVENT
BEGIN:VEVENT
DTSTART;TZID=UTC:20250308T190000
DTEND;TZID=UTC:20250308T210000
DTSTAMP:20260425T044810
CREATED:20240605T111839Z
LAST-MODIFIED:20240619T110642Z
UID:288-1741460400-1741467600@r25artcomplex.com
SUMMARY:DWT - Resurrection\, God of Hell (Performance)
DESCRIPTION:
URL:https://r25artcomplex.com/event/dwt-resurrection-god-of-hell-proformance-5/
LOCATION:Wilkerson (DWT)\, 2509 R St\, Sacramento\, 95816\, United States
CATEGORIES:DWT,Rehearsal
END:VEVENT
BEGIN:VEVENT
DTSTART;TZID=UTC:20250309T140000
DTEND;TZID=UTC:20250309T160000
DTSTAMP:20260425T044810
CREATED:20240605T112200Z
LAST-MODIFIED:20240619T110632Z
UID:290-1741528800-1741536000@r25artcomplex.com
SUMMARY:DWT - Resurrection\, God of Hell (Performance)
DESCRIPTION:
URL:https://r25artcomplex.com/event/dwt-resurrection-god-of-hell-proformance-6/
LOCATION:Wilkerson (DWT)\, 2509 R St\, Sacramento\, 95816\, United States
CATEGORIES:DWT,Performance
END:VEVENT
BEGIN:VEVENT
DTSTART;TZID=UTC:20250314T190000
DTEND;TZID=UTC:20250314T210000
DTSTAMP:20260425T044810
CREATED:20240605T112335Z
LAST-MODIFIED:20240619T110539Z
UID:292-1741978800-1741986000@r25artcomplex.com
SUMMARY:DWT - Resurrection\, God of Hell (Performance)
DESCRIPTION:
URL:https://r25artcomplex.com/event/dwt-resurrection-god-of-hell-proformance-7/
LOCATION:Wilkerson (DWT)\, 2509 R St\, Sacramento\, 95816\, United States
CATEGORIES:DWT,Performance
END:VEVENT
BEGIN:VEVENT
DTSTART;TZID=UTC:20250315T190000
DTEND;TZID=UTC:20250315T210000
DTSTAMP:20260425T044810
CREATED:20240605T112536Z
LAST-MODIFIED:20240619T111756Z
UID:294-1742065200-1742072400@r25artcomplex.com
SUMMARY:DWT - Resurrection\, God of Hell (Performance)
DESCRIPTION:
URL:https://r25artcomplex.com/event/dwt-resurrection-god-of-hell-proformance-8/
LOCATION:Wilkerson (DWT)\, 2509 R St\, Sacramento\, 95816\, United States
CATEGORIES:DWT,Performance
END:VEVENT
BEGIN:VEVENT
DTSTART;TZID=UTC:20250316T140000
DTEND;TZID=UTC:20250316T160000
DTSTAMP:20260425T044810
CREATED:20240605T112626Z
LAST-MODIFIED:20240619T110529Z
UID:296-1742133600-1742140800@r25artcomplex.com
SUMMARY:DWT - Resurrection\, God of Hell (Performance)
DESCRIPTION:
URL:https://r25artcomplex.com/event/dwt-resurrection-god-of-hell-proformance-9/
LOCATION:Wilkerson (DWT)\, 2509 R St\, Sacramento\, 95816\, United States
CATEGORIES:DWT,Performance
END:VEVENT
BEGIN:VEVENT
DTSTART;TZID=UTC:20250321T190000
DTEND;TZID=UTC:20250321T210000
DTSTAMP:20260425T044811
CREATED:20240605T112720Z
LAST-MODIFIED:20240619T110521Z
UID:298-1742583600-1742590800@r25artcomplex.com
SUMMARY:DWT - Resurrection\, God of Hell (Performance)
DESCRIPTION:
URL:https://r25artcomplex.com/event/dwt-resurrection-god-of-hell-proformance-10/
LOCATION:Wilkerson (DWT)\, 2509 R St\, Sacramento\, 95816\, United States
CATEGORIES:DWT,Performance
END:VEVENT
BEGIN:VEVENT
DTSTART;TZID=UTC:20250322T190000
DTEND;TZID=UTC:20250322T210000
DTSTAMP:20260425T044811
CREATED:20240605T112806Z
LAST-MODIFIED:20240619T110504Z
UID:300-1742670000-1742677200@r25artcomplex.com
SUMMARY:DWT - Resurrection\, God of Hell (Performance)
DESCRIPTION:
URL:https://r25artcomplex.com/event/dwt-resurrection-god-of-hell-proformance-11/
LOCATION:Wilkerson (DWT)\, 2509 R St\, Sacramento\, 95816\, United States
CATEGORIES:DWT,Performance
END:VEVENT
BEGIN:VEVENT
DTSTART;TZID=America/Los_Angeles:20250331T180000
DTEND;TZID=America/Los_Angeles:20250331T183000
DTSTAMP:20260425T044811
CREATED:20250221T042629Z
LAST-MODIFIED:20250221T042629Z
UID:1889-1743444000-1743445800@r25artcomplex.com
SUMMARY:DWT - Julie - Rental
DESCRIPTION:
URL:https://r25artcomplex.com/event/dwt-julie-rental/
LOCATION:Wilkerson (DWT)\, 2509 R St\, Sacramento\, 95816\, United States
CATEGORIES:DWT,Meeting
END:VEVENT
BEGIN:VEVENT
DTSTART;TZID=America/Los_Angeles:20250407T180000
DTEND;TZID=America/Los_Angeles:20250407T213000
DTSTAMP:20260425T044811
CREATED:20250221T043608Z
LAST-MODIFIED:20250221T043726Z
UID:1900-1744048800-1744061400@r25artcomplex.com
SUMMARY:DWT - Julie - Rental
DESCRIPTION:
URL:https://r25artcomplex.com/event/dwt-julie-rental-2/
LOCATION:Wilkerson (DWT)\, 2509 R St\, Sacramento\, 95816\, United States
CATEGORIES:DWT,Meeting
END:VEVENT
BEGIN:VEVENT
DTSTART;TZID=America/Los_Angeles:20250414T180000
DTEND;TZID=America/Los_Angeles:20250414T183000
DTSTAMP:20260425T044811
CREATED:20250326T031802Z
LAST-MODIFIED:20250326T031802Z
UID:1957-1744653600-1744655400@r25artcomplex.com
SUMMARY:DWT - Julie - Rental
DESCRIPTION:
URL:https://r25artcomplex.com/event/dwt-julie-rental-3/
LOCATION:Wilkerson (DWT)\, 2509 R St\, Sacramento\, 95816\, United States
CATEGORIES:DWT,Meeting
END:VEVENT
BEGIN:VEVENT
DTSTART;TZID=America/Los_Angeles:20250503T090000
DTEND;TZID=America/Los_Angeles:20250503T190000
DTSTAMP:20260425T044811
CREATED:20250412T040842Z
LAST-MODIFIED:20250412T041203Z
UID:2005-1746262800-1746298800@r25artcomplex.com
SUMMARY:DWT - Cindy Su\, Healing Music Seeds
DESCRIPTION:
URL:https://r25artcomplex.com/event/dwt-cindy-su-healing-music-seeds/
LOCATION:Wilkerson (DWT)\, 2509 R St\, Sacramento\, 95816\, United States
CATEGORIES:DWT,One Day Show
END:VEVENT
BEGIN:VEVENT
DTSTART;TZID=America/Los_Angeles:20250504T183000
DTEND;TZID=America/Los_Angeles:20250504T220000
DTSTAMP:20260425T044811
CREATED:20250326T032522Z
LAST-MODIFIED:20250326T032522Z
UID:1960-1746383400-1746396000@r25artcomplex.com
SUMMARY:DWT - Playwright Group
DESCRIPTION:
URL:https://r25artcomplex.com/event/dwt-playwright-group/
LOCATION:Wilkerson (DWT)\, 2509 R St\, Sacramento\, 95816\, United States
CATEGORIES:DWT,Performance
END:VEVENT
BEGIN:VEVENT
DTSTART;TZID=America/Los_Angeles:20250515T180000
DTEND;TZID=America/Los_Angeles:20250515T220000
DTSTAMP:20260425T044811
CREATED:20250412T041847Z
LAST-MODIFIED:20250427T002901Z
UID:2014-1747332000-1747346400@r25artcomplex.com
SUMMARY:DWT - Julie
DESCRIPTION:
URL:https://r25artcomplex.com/event/dwt-julie/
LOCATION:Wilkerson (DWT)\, 2509 R St\, Sacramento\, 95816\, United States
CATEGORIES:DWT,Rehearsal
END:VEVENT
END:VCALENDAR