BEGIN:VCALENDAR
VERSION:2.0
PRODID:-//R25 Art Complex - ECPv6.15.20//NONSGML v1.0//EN
CALSCALE:GREGORIAN
METHOD:PUBLISH
X-WR-CALNAME:R25 Art Complex
X-ORIGINAL-URL:https://r25artcomplex.com
X-WR-CALDESC:Events for R25 Art Complex
REFRESH-INTERVAL;VALUE=DURATION:PT1H
X-Robots-Tag:noindex
X-PUBLISHED-TTL:PT1H
BEGIN:VTIMEZONE
TZID:America/Los_Angeles
BEGIN:DAYLIGHT
TZOFFSETFROM:-0800
TZOFFSETTO:-0700
TZNAME:PDT
DTSTART:20230312T100000
END:DAYLIGHT
BEGIN:STANDARD
TZOFFSETFROM:-0700
TZOFFSETTO:-0800
TZNAME:PST
DTSTART:20231105T090000
END:STANDARD
BEGIN:DAYLIGHT
TZOFFSETFROM:-0800
TZOFFSETTO:-0700
TZNAME:PDT
DTSTART:20240310T100000
END:DAYLIGHT
BEGIN:STANDARD
TZOFFSETFROM:-0700
TZOFFSETTO:-0800
TZNAME:PST
DTSTART:20241103T090000
END:STANDARD
BEGIN:DAYLIGHT
TZOFFSETFROM:-0800
TZOFFSETTO:-0700
TZNAME:PDT
DTSTART:20250309T100000
END:DAYLIGHT
BEGIN:STANDARD
TZOFFSETFROM:-0700
TZOFFSETTO:-0800
TZNAME:PST
DTSTART:20251102T090000
END:STANDARD
END:VTIMEZONE
BEGIN:VEVENT
DTSTART;TZID=America/Los_Angeles:20240911T100000
DTEND;TZID=America/Los_Angeles:20240911T220000
DTSTAMP:20260425T043801
CREATED:20240721T033512Z
LAST-MODIFIED:20240916T021309Z
UID:793-1726048800-1726092000@r25artcomplex.com
SUMMARY:DWT-Jim Anderson (R)\, Festival Access-Able Theater
DESCRIPTION:
URL:https://r25artcomplex.com/event/dwt-jim-anderson-rehearsal-fesival-access-able-theater-11/
LOCATION:California Stage (CST)
CATEGORIES:CST,DWT,Rehearsal
END:VEVENT
END:VCALENDAR