BEGIN:VCALENDAR
VERSION:2.0
PRODID:-//R25 Art Complex - ECPv6.15.20//NONSGML v1.0//EN
CALSCALE:GREGORIAN
METHOD:PUBLISH
X-WR-CALNAME:R25 Art Complex
X-ORIGINAL-URL:https://r25artcomplex.com
X-WR-CALDESC:Events for R25 Art Complex
REFRESH-INTERVAL;VALUE=DURATION:PT1H
X-Robots-Tag:noindex
X-PUBLISHED-TTL:PT1H
BEGIN:VTIMEZONE
TZID:America/Los_Angeles
BEGIN:DAYLIGHT
TZOFFSETFROM:-0800
TZOFFSETTO:-0700
TZNAME:PDT
DTSTART:20230312T100000
END:DAYLIGHT
BEGIN:STANDARD
TZOFFSETFROM:-0700
TZOFFSETTO:-0800
TZNAME:PST
DTSTART:20231105T090000
END:STANDARD
BEGIN:DAYLIGHT
TZOFFSETFROM:-0800
TZOFFSETTO:-0700
TZNAME:PDT
DTSTART:20240310T100000
END:DAYLIGHT
BEGIN:STANDARD
TZOFFSETFROM:-0700
TZOFFSETTO:-0800
TZNAME:PST
DTSTART:20241103T090000
END:STANDARD
BEGIN:DAYLIGHT
TZOFFSETFROM:-0800
TZOFFSETTO:-0700
TZNAME:PDT
DTSTART:20250309T100000
END:DAYLIGHT
BEGIN:STANDARD
TZOFFSETFROM:-0700
TZOFFSETTO:-0800
TZNAME:PST
DTSTART:20251102T090000
END:STANDARD
END:VTIMEZONE
BEGIN:VEVENT
DTSTART;TZID=America/Los_Angeles:20240806T100000
DTEND;TZID=America/Los_Angeles:20240806T133000
DTSTAMP:20260425T061409
CREATED:20240724T022408Z
LAST-MODIFIED:20240724T022408Z
UID:830-1722938400-1722951000@r25artcomplex.com
SUMMARY:DWT - Jim Anderson's Group (R)
DESCRIPTION:
URL:https://r25artcomplex.com/event/dwt-jim-andersons-group-r-5/
LOCATION:Wilkerson (DWT)\, 2509 R St\, Sacramento\, 95816\, United States
CATEGORIES:DWT,Rehearsal
END:VEVENT
BEGIN:VEVENT
DTSTART;TZID=America/Los_Angeles:20240806T160000
DTEND;TZID=America/Los_Angeles:20240806T174500
DTSTAMP:20260425T061409
CREATED:20240724T025245Z
LAST-MODIFIED:20240724T025245Z
UID:848-1722960000-1722966300@r25artcomplex.com
SUMMARY:DWT - Eye of the Storm (R)
DESCRIPTION:Regina
URL:https://r25artcomplex.com/event/dwt-eye-of-the-storm-r-2/
LOCATION:Wilkerson (DWT)\, 2509 R St\, Sacramento\, 95816\, United States
CATEGORIES:DWT,Rehearsal
END:VEVENT
BEGIN:VEVENT
DTSTART;TZID=America/Los_Angeles:20240806T180000
DTEND;TZID=America/Los_Angeles:20240806T220000
DTSTAMP:20260425T061409
CREATED:20240724T034504Z
LAST-MODIFIED:20240724T034504Z
UID:867-1722967200-1722981600@r25artcomplex.com
SUMMARY:DWT-Resurrection One Acts (R)
DESCRIPTION:
URL:https://r25artcomplex.com/event/dwt-resurrection-one-acts-r-6/
LOCATION:Wilkerson (DWT)\, 2509 R St\, Sacramento\, 95816\, United States
CATEGORIES:DWT,Rehearsal
END:VEVENT
END:VCALENDAR