BEGIN:VCALENDAR
VERSION:2.0
PRODID:-//R25 Art Complex - ECPv6.15.20//NONSGML v1.0//EN
CALSCALE:GREGORIAN
METHOD:PUBLISH
X-WR-CALNAME:R25 Art Complex
X-ORIGINAL-URL:https://r25artcomplex.com
X-WR-CALDESC:Events for R25 Art Complex
REFRESH-INTERVAL;VALUE=DURATION:PT1H
X-Robots-Tag:noindex
X-PUBLISHED-TTL:PT1H
BEGIN:VTIMEZONE
TZID:America/Los_Angeles
BEGIN:DAYLIGHT
TZOFFSETFROM:-0800
TZOFFSETTO:-0700
TZNAME:PDT
DTSTART:20230312T100000
END:DAYLIGHT
BEGIN:STANDARD
TZOFFSETFROM:-0700
TZOFFSETTO:-0800
TZNAME:PST
DTSTART:20231105T090000
END:STANDARD
BEGIN:DAYLIGHT
TZOFFSETFROM:-0800
TZOFFSETTO:-0700
TZNAME:PDT
DTSTART:20240310T100000
END:DAYLIGHT
BEGIN:STANDARD
TZOFFSETFROM:-0700
TZOFFSETTO:-0800
TZNAME:PST
DTSTART:20241103T090000
END:STANDARD
BEGIN:DAYLIGHT
TZOFFSETFROM:-0800
TZOFFSETTO:-0700
TZNAME:PDT
DTSTART:20250309T100000
END:DAYLIGHT
BEGIN:STANDARD
TZOFFSETFROM:-0700
TZOFFSETTO:-0800
TZNAME:PST
DTSTART:20251102T090000
END:STANDARD
END:VTIMEZONE
BEGIN:VEVENT
DTSTART;TZID=America/Los_Angeles:20240731T100000
DTEND;TZID=America/Los_Angeles:20240731T133000
DTSTAMP:20260425T061425
CREATED:20240724T022249Z
LAST-MODIFIED:20240724T022249Z
UID:828-1722420000-1722432600@r25artcomplex.com
SUMMARY:DWT - Jim Anderson's Group (R)
DESCRIPTION:
URL:https://r25artcomplex.com/event/dwt-jim-andersons-group-r-4/
LOCATION:Wilkerson (DWT)\, 2509 R St\, Sacramento\, 95816\, United States
CATEGORIES:DWT,Rehearsal
END:VEVENT
BEGIN:VEVENT
DTSTART;TZID=America/Los_Angeles:20240731T180000
DTEND;TZID=America/Los_Angeles:20240731T220000
DTSTAMP:20260425T061425
CREATED:20240724T034234Z
LAST-MODIFIED:20240724T034234Z
UID:859-1722448800-1722463200@r25artcomplex.com
SUMMARY:DWT-Resurrection One Acts (R)
DESCRIPTION:
URL:https://r25artcomplex.com/event/dwt-resurrection-one-acts-r-2/
LOCATION:Wilkerson (DWT)\, 2509 R St\, Sacramento\, 95816\, United States
CATEGORIES:DWT,Rehearsal
END:VEVENT
END:VCALENDAR