BEGIN:VCALENDAR
VERSION:2.0
PRODID:-//R25 Art Complex - ECPv6.15.20//NONSGML v1.0//EN
CALSCALE:GREGORIAN
METHOD:PUBLISH
X-WR-CALNAME:R25 Art Complex
X-ORIGINAL-URL:https://r25artcomplex.com
X-WR-CALDESC:Events for R25 Art Complex
REFRESH-INTERVAL;VALUE=DURATION:PT1H
X-Robots-Tag:noindex
X-PUBLISHED-TTL:PT1H
BEGIN:VTIMEZONE
TZID:UTC
BEGIN:STANDARD
TZOFFSETFROM:+0000
TZOFFSETTO:+0000
TZNAME:UTC
DTSTART:20230101T000000
END:STANDARD
END:VTIMEZONE
BEGIN:VEVENT
DTSTART;TZID=UTC:20240718T183000
DTEND;TZID=UTC:20240718T213000
DTSTAMP:20260425T075934
CREATED:20240619T120130Z
LAST-MODIFIED:20240702T023653Z
UID:402-1721327400-1721338200@r25artcomplex.com
SUMMARY:DWT - MSTW - A Red Plaid Shirt (Rehearsal)
DESCRIPTION:
URL:https://r25artcomplex.com/event/cst-mstw-a-red-plaid-shirt-rehearsal-2/
LOCATION:Wilkerson (DWT)\, 2509 R St\, Sacramento\, 95816\, United States
CATEGORIES:DWT,Rehearsal
END:VEVENT
END:VCALENDAR