BEGIN:VCALENDAR
VERSION:2.0
PRODID:-//R25 Art Complex - ECPv6.15.20//NONSGML v1.0//EN
CALSCALE:GREGORIAN
METHOD:PUBLISH
X-WR-CALNAME:R25 Art Complex
X-ORIGINAL-URL:https://r25artcomplex.com
X-WR-CALDESC:Events for R25 Art Complex
REFRESH-INTERVAL;VALUE=DURATION:PT1H
X-Robots-Tag:noindex
X-PUBLISHED-TTL:PT1H
BEGIN:VTIMEZONE
TZID:UTC
BEGIN:STANDARD
TZOFFSETFROM:+0000
TZOFFSETTO:+0000
TZNAME:UTC
DTSTART:20240101T000000
END:STANDARD
END:VTIMEZONE
BEGIN:VTIMEZONE
TZID:America/Los_Angeles
BEGIN:DAYLIGHT
TZOFFSETFROM:-0800
TZOFFSETTO:-0700
TZNAME:PDT
DTSTART:20240310T100000
END:DAYLIGHT
BEGIN:STANDARD
TZOFFSETFROM:-0700
TZOFFSETTO:-0800
TZNAME:PST
DTSTART:20241103T090000
END:STANDARD
BEGIN:DAYLIGHT
TZOFFSETFROM:-0800
TZOFFSETTO:-0700
TZNAME:PDT
DTSTART:20250309T100000
END:DAYLIGHT
BEGIN:STANDARD
TZOFFSETFROM:-0700
TZOFFSETTO:-0800
TZNAME:PST
DTSTART:20251102T090000
END:STANDARD
BEGIN:DAYLIGHT
TZOFFSETFROM:-0800
TZOFFSETTO:-0700
TZNAME:PDT
DTSTART:20260308T100000
END:DAYLIGHT
BEGIN:STANDARD
TZOFFSETFROM:-0700
TZOFFSETTO:-0800
TZNAME:PST
DTSTART:20261101T090000
END:STANDARD
END:VTIMEZONE
BEGIN:VEVENT
DTSTART;TZID=UTC:20250301T190000
DTEND;TZID=UTC:20250301T210000
DTSTAMP:20260424T121527
CREATED:20240605T111329Z
LAST-MODIFIED:20250228T043458Z
UID:282-1740855600-1740862800@r25artcomplex.com
SUMMARY:DWT - Resurrection\, God of Hell (Performance)
DESCRIPTION:
URL:https://r25artcomplex.com/event/dwt-resurrection-god-of-hell-proformance-2/
LOCATION:Wilkerson (DWT)\, 2509 R St\, Sacramento\, 95816\, United States
CATEGORIES:DWT,Performance
END:VEVENT
BEGIN:VEVENT
DTSTART;TZID=UTC:20250302T140000
DTEND;TZID=UTC:20250302T160000
DTSTAMP:20260424T121527
CREATED:20240605T111611Z
LAST-MODIFIED:20240619T110739Z
UID:284-1740924000-1740931200@r25artcomplex.com
SUMMARY:DWT - Resurrection\, God of Hell (Performance)
DESCRIPTION:
URL:https://r25artcomplex.com/event/dwt-resurrection-god-of-hell-proformance-3/
LOCATION:Wilkerson (DWT)\, 2509 R St\, Sacramento\, 95816\, United States
CATEGORIES:DWT,Performance
END:VEVENT
BEGIN:VEVENT
DTSTART;TZID=UTC:20250307T190000
DTEND;TZID=UTC:20250307T210000
DTSTAMP:20260424T121527
CREATED:20240605T111741Z
LAST-MODIFIED:20240619T110718Z
UID:286-1741374000-1741381200@r25artcomplex.com
SUMMARY:DWT - Resurrection\, God of Hell (Performance)
DESCRIPTION:
URL:https://r25artcomplex.com/event/dwt-resurrection-god-of-hell-proformance-4/
LOCATION:Wilkerson (DWT)\, 2509 R St\, Sacramento\, 95816\, United States
CATEGORIES:DWT,Performance
END:VEVENT
BEGIN:VEVENT
DTSTART;TZID=UTC:20250308T190000
DTEND;TZID=UTC:20250308T210000
DTSTAMP:20260424T121527
CREATED:20240605T111839Z
LAST-MODIFIED:20240619T110642Z
UID:288-1741460400-1741467600@r25artcomplex.com
SUMMARY:DWT - Resurrection\, God of Hell (Performance)
DESCRIPTION:
URL:https://r25artcomplex.com/event/dwt-resurrection-god-of-hell-proformance-5/
LOCATION:Wilkerson (DWT)\, 2509 R St\, Sacramento\, 95816\, United States
CATEGORIES:DWT,Rehearsal
END:VEVENT
BEGIN:VEVENT
DTSTART;TZID=UTC:20250309T140000
DTEND;TZID=UTC:20250309T160000
DTSTAMP:20260424T121527
CREATED:20240605T112200Z
LAST-MODIFIED:20240619T110632Z
UID:290-1741528800-1741536000@r25artcomplex.com
SUMMARY:DWT - Resurrection\, God of Hell (Performance)
DESCRIPTION:
URL:https://r25artcomplex.com/event/dwt-resurrection-god-of-hell-proformance-6/
LOCATION:Wilkerson (DWT)\, 2509 R St\, Sacramento\, 95816\, United States
CATEGORIES:DWT,Performance
END:VEVENT
BEGIN:VEVENT
DTSTART;TZID=UTC:20250314T190000
DTEND;TZID=UTC:20250314T210000
DTSTAMP:20260424T121527
CREATED:20240605T112335Z
LAST-MODIFIED:20240619T110539Z
UID:292-1741978800-1741986000@r25artcomplex.com
SUMMARY:DWT - Resurrection\, God of Hell (Performance)
DESCRIPTION:
URL:https://r25artcomplex.com/event/dwt-resurrection-god-of-hell-proformance-7/
LOCATION:Wilkerson (DWT)\, 2509 R St\, Sacramento\, 95816\, United States
CATEGORIES:DWT,Performance
END:VEVENT
BEGIN:VEVENT
DTSTART;TZID=UTC:20250315T190000
DTEND;TZID=UTC:20250315T210000
DTSTAMP:20260424T121527
CREATED:20240605T112536Z
LAST-MODIFIED:20240619T111756Z
UID:294-1742065200-1742072400@r25artcomplex.com
SUMMARY:DWT - Resurrection\, God of Hell (Performance)
DESCRIPTION:
URL:https://r25artcomplex.com/event/dwt-resurrection-god-of-hell-proformance-8/
LOCATION:Wilkerson (DWT)\, 2509 R St\, Sacramento\, 95816\, United States
CATEGORIES:DWT,Performance
END:VEVENT
BEGIN:VEVENT
DTSTART;TZID=UTC:20250316T140000
DTEND;TZID=UTC:20250316T160000
DTSTAMP:20260424T121527
CREATED:20240605T112626Z
LAST-MODIFIED:20240619T110529Z
UID:296-1742133600-1742140800@r25artcomplex.com
SUMMARY:DWT - Resurrection\, God of Hell (Performance)
DESCRIPTION:
URL:https://r25artcomplex.com/event/dwt-resurrection-god-of-hell-proformance-9/
LOCATION:Wilkerson (DWT)\, 2509 R St\, Sacramento\, 95816\, United States
CATEGORIES:DWT,Performance
END:VEVENT
BEGIN:VEVENT
DTSTART;TZID=UTC:20250321T190000
DTEND;TZID=UTC:20250321T210000
DTSTAMP:20260424T121527
CREATED:20240605T112720Z
LAST-MODIFIED:20240619T110521Z
UID:298-1742583600-1742590800@r25artcomplex.com
SUMMARY:DWT - Resurrection\, God of Hell (Performance)
DESCRIPTION:
URL:https://r25artcomplex.com/event/dwt-resurrection-god-of-hell-proformance-10/
LOCATION:Wilkerson (DWT)\, 2509 R St\, Sacramento\, 95816\, United States
CATEGORIES:DWT,Performance
END:VEVENT
BEGIN:VEVENT
DTSTART;TZID=UTC:20250322T190000
DTEND;TZID=UTC:20250322T210000
DTSTAMP:20260424T121527
CREATED:20240605T112806Z
LAST-MODIFIED:20240619T110504Z
UID:300-1742670000-1742677200@r25artcomplex.com
SUMMARY:DWT - Resurrection\, God of Hell (Performance)
DESCRIPTION:
URL:https://r25artcomplex.com/event/dwt-resurrection-god-of-hell-proformance-11/
LOCATION:Wilkerson (DWT)\, 2509 R St\, Sacramento\, 95816\, United States
CATEGORIES:DWT,Performance
END:VEVENT
BEGIN:VEVENT
DTSTART;TZID=America/Los_Angeles:20250331T180000
DTEND;TZID=America/Los_Angeles:20250331T183000
DTSTAMP:20260424T121527
CREATED:20250221T042629Z
LAST-MODIFIED:20250221T042629Z
UID:1889-1743444000-1743445800@r25artcomplex.com
SUMMARY:DWT - Julie - Rental
DESCRIPTION:
URL:https://r25artcomplex.com/event/dwt-julie-rental/
LOCATION:Wilkerson (DWT)\, 2509 R St\, Sacramento\, 95816\, United States
CATEGORIES:DWT,Meeting
END:VEVENT
END:VCALENDAR